BEGIN:VCALENDAR
VERSION:2.0
PRODID:-//Centre hospitalier Laborit - ECPv6.15.20//NONSGML v1.0//EN
CALSCALE:GREGORIAN
METHOD:PUBLISH
X-WR-CALNAME:Centre hospitalier Laborit
X-ORIGINAL-URL:https://ch-laborit.fr
X-WR-CALDESC:Évènements pour Centre hospitalier Laborit
REFRESH-INTERVAL;VALUE=DURATION:PT1H
X-Robots-Tag:noindex
X-PUBLISHED-TTL:PT1H
BEGIN:VTIMEZONE
TZID:Europe/Paris
BEGIN:DAYLIGHT
TZOFFSETFROM:+0100
TZOFFSETTO:+0200
TZNAME:CEST
DTSTART:20240331T010000
END:DAYLIGHT
BEGIN:STANDARD
TZOFFSETFROM:+0200
TZOFFSETTO:+0100
TZNAME:CET
DTSTART:20241027T010000
END:STANDARD
BEGIN:DAYLIGHT
TZOFFSETFROM:+0100
TZOFFSETTO:+0200
TZNAME:CEST
DTSTART:20250330T010000
END:DAYLIGHT
BEGIN:STANDARD
TZOFFSETFROM:+0200
TZOFFSETTO:+0100
TZNAME:CET
DTSTART:20251026T010000
END:STANDARD
BEGIN:DAYLIGHT
TZOFFSETFROM:+0100
TZOFFSETTO:+0200
TZNAME:CEST
DTSTART:20260329T010000
END:DAYLIGHT
BEGIN:STANDARD
TZOFFSETFROM:+0200
TZOFFSETTO:+0100
TZNAME:CET
DTSTART:20261025T010000
END:STANDARD
END:VTIMEZONE
BEGIN:VEVENT
DTSTART;TZID=Europe/Paris:20250114T080000
DTEND;TZID=Europe/Paris:20250114T170000
DTSTAMP:20260421T103123
CREATED:20250114T102200Z
LAST-MODIFIED:20250114T102200Z
UID:18615-1736841600-1736874000@ch-laborit.fr
SUMMARY:55eme Journées du GEPS\, la société savante de suicidologie\, les 25 et 26 septembre 2025 à Paris
DESCRIPTION:Le GEPS\, la société savante francophone de suicidologie organise ses 55eme Journées du GEPS\, qui se tiendront les 25 et 26 septembre 2025 à la Maison de la Chimie à Paris. \n \nCes journées s’intitulent : \n« Le Suicide en QuestionS »\nNous vous avons préparé un formidable programme\, avec de nombreux intervenants de renom couvrant plusieurs thématiques originales ou d’actualité\, dans un lieu prestigieux. \nEt comme chaque année\, nous vous proposons la veille\, le 24 septembre\, une belle liste d’ateliers de formation continue. \nPlus d’infos ici: https://www.gepscongres.com/ \nN’attendez pas et faites suivre l’info! \nA très bientôt\, \nPour le Comité Local d’Organisation. \nPr Fabrice JOLLANT\, MD PhD\nProfesseur des Universités – Praticien Hospitalier\nUniversité Paris-Saclay\, Faculté de Médecine\, Le Kremlin-Bicêtre & Service de psychiatrie et addictologie\, Hôpital Paul Brousse\, APHP\, Villejuif\, FRANCE\nAdjunct professor\nMcGill University\, Department of Psychiatry & McGill Group for Suicide Studies (MGSS)\, Douglas Research Institute\, Montréal (Québec)\, CANADA \n  \n\n 
URL:https://ch-laborit.fr/evenement/55eme-journees-du-geps-la-societe-savante-de-suicidologie-les-25-et-26-septembre-2025-a-paris/
CATEGORIES:Colloque,Culture,Journée thématique,Journée Universitaire
ATTACH;FMTTYPE=image/png:https://ch-laborit.fr/wp-content/uploads/1/2025/01/bannière-mail550.png
END:VEVENT
BEGIN:VEVENT
DTSTART;TZID=Europe/Paris:20250131T083000
DTEND;TZID=Europe/Paris:20250131T121500
DTSTAMP:20260421T103123
CREATED:20241126T160434Z
LAST-MODIFIED:20241128T142830Z
UID:18509-1738312200-1738325700@ch-laborit.fr
SUMMARY:Matinée d'échange autour d'un film
DESCRIPTION:L’équipe du Pôle universitaire de psychiatrie de l’enfant et de l’adolescent du CH Laborit propose un temps d’échange autour du film « Parents à perpétuité »\, le vendredi 31 janvier de 8h30 à 12h15 en salle de Conférence du CH Laborit (entrée n° 21). \nProgramme\n8h30.8h45 : Accueil café\n8h45.9h : Introduction par le Pr GICQUEL\, Mme BOUGEROL\, Dr MALLET\, Mme ROMERO\n9h.10h30 : diffusion du film: « Parents à perpétuité »\n10h30.11h30 : Intervention de Mme ROMERO: Présentation de son rapport sur les mineurs AICS\n11h30.12h15 : échanges avec les professionnels \nMerci de  confirmer votre présence au 05 49 45 81 20 (après midi) ou par mail : secretariat-equipes-mobiles-pupea@ch-poitiers.fr \nSynopsis\nLaurence et Eric sont les parents responsables et aimants de Guillaume\, 17 ans. Tandis que la famille s’apprête à partir en vacances\, les gendarmes viennent l’arrêter. Guillaume aurait violé une camarade. Pour les parents\, c’est la sidération. Mais très vite\, il avoue. Ses parents sont déchirés entre incompréhension\, horreur\, chagrin\, culpabilité de n’avoir pas vu\, de n’avoir pas fait. Commence alors pour Laurence et Eric le combat pour comprendre ce qui s’est réellement passé. Et celui plus difficile encore d’accompagner leur fils dans cette tempête judiciaire. Sans nier sa responsabilité car ils sont bel et bien ses parents à perpétuité…
URL:https://ch-laborit.fr/evenement/matinee-dechange-autour-dun-film/
LOCATION:CH Laborit Salle de Conférences\, 370 Avenue Jacques Coeur - Entrée 21\, Poitiers
CATEGORIES:Conférence
ATTACH;FMTTYPE=image/png:https://ch-laborit.fr/wp-content/uploads/1/2024/11/STD31-01-2025-CHL-PJJ-768-x-432-px.png
END:VEVENT
END:VCALENDAR