BEGIN:VCALENDAR
VERSION:2.0
PRODID:-//Centre hospitalier Laborit - ECPv6.15.20//NONSGML v1.0//EN
CALSCALE:GREGORIAN
METHOD:PUBLISH
X-WR-CALNAME:Centre hospitalier Laborit
X-ORIGINAL-URL:https://ch-laborit.fr
X-WR-CALDESC:Évènements pour Centre hospitalier Laborit
REFRESH-INTERVAL;VALUE=DURATION:PT1H
X-Robots-Tag:noindex
X-PUBLISHED-TTL:PT1H
BEGIN:VTIMEZONE
TZID:Europe/Paris
BEGIN:DAYLIGHT
TZOFFSETFROM:+0100
TZOFFSETTO:+0200
TZNAME:CEST
DTSTART:20240331T010000
END:DAYLIGHT
BEGIN:STANDARD
TZOFFSETFROM:+0200
TZOFFSETTO:+0100
TZNAME:CET
DTSTART:20241027T010000
END:STANDARD
BEGIN:DAYLIGHT
TZOFFSETFROM:+0100
TZOFFSETTO:+0200
TZNAME:CEST
DTSTART:20250330T010000
END:DAYLIGHT
BEGIN:STANDARD
TZOFFSETFROM:+0200
TZOFFSETTO:+0100
TZNAME:CET
DTSTART:20251026T010000
END:STANDARD
BEGIN:DAYLIGHT
TZOFFSETFROM:+0100
TZOFFSETTO:+0200
TZNAME:CEST
DTSTART:20260329T010000
END:DAYLIGHT
BEGIN:STANDARD
TZOFFSETFROM:+0200
TZOFFSETTO:+0100
TZNAME:CET
DTSTART:20261025T010000
END:STANDARD
END:VTIMEZONE
BEGIN:VEVENT
DTSTART;TZID=Europe/Paris:20250413T140000
DTEND;TZID=Europe/Paris:20250413T173000
DTSTAMP:20260421T104118
CREATED:20250312T132643Z
LAST-MODIFIED:20250312T132643Z
UID:18842-1744552800-1744565400@ch-laborit.fr
SUMMARY:A l’occasion du mois de l’obésité – Une marche découverte
DESCRIPTION:
URL:https://ch-laborit.fr/evenement/a-loccasion-du-mois-de-lobesite-une-marche-decouverte-4/
LOCATION:Domaine du lac de Saint-Cyr\, Saint-Cyr\, France
CATEGORIES:Animation,Loisir,Prévention,Sport
ATTACH;FMTTYPE=image/png:https://ch-laborit.fr/wp-content/uploads/1/2025/03/Capture-decran-2025-03-12-132258.png
END:VEVENT
END:VCALENDAR