BEGIN:VCALENDAR
VERSION:2.0
PRODID:-//Centre hospitalier Laborit - ECPv6.15.20//NONSGML v1.0//EN
CALSCALE:GREGORIAN
METHOD:PUBLISH
X-WR-CALNAME:Centre hospitalier Laborit
X-ORIGINAL-URL:https://ch-laborit.fr
X-WR-CALDESC:Évènements pour Centre hospitalier Laborit
REFRESH-INTERVAL;VALUE=DURATION:PT1H
X-Robots-Tag:noindex
X-PUBLISHED-TTL:PT1H
BEGIN:VTIMEZONE
TZID:Europe/Paris
BEGIN:DAYLIGHT
TZOFFSETFROM:+0100
TZOFFSETTO:+0200
TZNAME:CEST
DTSTART:20250330T010000
END:DAYLIGHT
BEGIN:STANDARD
TZOFFSETFROM:+0200
TZOFFSETTO:+0100
TZNAME:CET
DTSTART:20251026T010000
END:STANDARD
BEGIN:DAYLIGHT
TZOFFSETFROM:+0100
TZOFFSETTO:+0200
TZNAME:CEST
DTSTART:20260329T010000
END:DAYLIGHT
BEGIN:STANDARD
TZOFFSETFROM:+0200
TZOFFSETTO:+0100
TZNAME:CET
DTSTART:20261025T010000
END:STANDARD
BEGIN:DAYLIGHT
TZOFFSETFROM:+0100
TZOFFSETTO:+0200
TZNAME:CEST
DTSTART:20270328T010000
END:DAYLIGHT
BEGIN:STANDARD
TZOFFSETFROM:+0200
TZOFFSETTO:+0100
TZNAME:CET
DTSTART:20271031T010000
END:STANDARD
END:VTIMEZONE
BEGIN:VEVENT
DTSTART;TZID=Europe/Paris:20260602T083000
DTEND;TZID=Europe/Paris:20260602T170000
DTSTAMP:20260425T143545
CREATED:20260312T121556Z
LAST-MODIFIED:20260312T121556Z
UID:21930-1780389000-1780419600@ch-laborit.fr
SUMMARY:Journée ETP Santé Mentale du réseau Poitou-Charentes - LE PAIR AIDANT : acteur incontournable en ETP
DESCRIPTION:Nous avons le plaisir de vous informer de la tenue de la Journée ETP Santé Mentale du réseau Poitou-Charentes\, qui se déroulera : \n📅 Mardi 2 juin 2026\n🕣 De 8h30 à 17h\n📍 Lieu : Campus Santé CRF 16 à La Couronne \n \nCette journée sera consacrée à la pair-aidance en santé mentale\, à travers des temps de réflexion\, de partage d’expériences et d’ateliers pratiques autour de l’Éducation Thérapeutique du Patient (ETP). \n🧠 Temps forts de la journée (programme prévisionnel) \n\nOuverture institutionnelle\nConférences :\n\nÉclairage sur la pair-aidance et ses terminologies\nEdouard PINET – Médiateur de santé pair\nPrésentation des dispositifs existants et perspectives d’avenir\nMichel CHAPEAU – ETHNA\n\n\nTable ronde : témoignages de pairs-aidants\nPrésentation d’ateliers ETP par les étudiants de l’IFSI\nStands & posters ETP régionaux\n6 ateliers thématiques (ETP schizophrénie\, troubles bipolaires\, vie relationnelle\, handicap et réadaptation\, projets innovants\, témoignage de rétablissement…)\n\nUn programme détaillé\, ainsi que les modalités d’inscription\, vous seront communiqués ultérieurement. \n📌 Merci de noter dès à présent cette date dans vos agendas.
URL:https://ch-laborit.fr/evenement/journee-etp-sante-mentale-du-reseau-poitou-charentes-le-pair-aidant-acteur-incontournable-en-etp/
LOCATION:Campus Santé CRF 16\, La Couronne
CATEGORIES:Journée thématique
ATTACH;FMTTYPE=image/png:https://ch-laborit.fr/wp-content/uploads/1/2026/03/image001.png
END:VEVENT
END:VCALENDAR