BEGIN:VCALENDAR
VERSION:2.0
PRODID:-//Centre hospitalier Laborit - ECPv6.15.20//NONSGML v1.0//EN
CALSCALE:GREGORIAN
METHOD:PUBLISH
X-WR-CALNAME:Centre hospitalier Laborit
X-ORIGINAL-URL:https://ch-laborit.fr
X-WR-CALDESC:Évènements pour Centre hospitalier Laborit
REFRESH-INTERVAL;VALUE=DURATION:PT1H
X-Robots-Tag:noindex
X-PUBLISHED-TTL:PT1H
BEGIN:VTIMEZONE
TZID:Europe/Paris
BEGIN:DAYLIGHT
TZOFFSETFROM:+0100
TZOFFSETTO:+0200
TZNAME:CEST
DTSTART:20230326T010000
END:DAYLIGHT
BEGIN:STANDARD
TZOFFSETFROM:+0200
TZOFFSETTO:+0100
TZNAME:CET
DTSTART:20231029T010000
END:STANDARD
BEGIN:DAYLIGHT
TZOFFSETFROM:+0100
TZOFFSETTO:+0200
TZNAME:CEST
DTSTART:20240331T010000
END:DAYLIGHT
BEGIN:STANDARD
TZOFFSETFROM:+0200
TZOFFSETTO:+0100
TZNAME:CET
DTSTART:20241027T010000
END:STANDARD
BEGIN:DAYLIGHT
TZOFFSETFROM:+0100
TZOFFSETTO:+0200
TZNAME:CEST
DTSTART:20250330T010000
END:DAYLIGHT
BEGIN:STANDARD
TZOFFSETFROM:+0200
TZOFFSETTO:+0100
TZNAME:CET
DTSTART:20251026T010000
END:STANDARD
END:VTIMEZONE
BEGIN:VEVENT
DTSTART;TZID=Europe/Paris:20241218T090000
DTEND;TZID=Europe/Paris:20241218T170000
DTSTAMP:20260422T082741
CREATED:20241121T133740Z
LAST-MODIFIED:20241129T161226Z
UID:18485-1734512400-1734541200@ch-laborit.fr
SUMMARY:Journée Universitaire Précarité et Santé mentale le mercredi 18 décembre 2024 au CH Laborit
DESCRIPTION:– Journée Universitaire –\n« Précarité et Santé mentale : Alliées invisibles ou colocataires inconfortables ? »\nOrganisée par le Pr Jaafari – Chef du pôle universitaire de psychiatrie adulte du CH Laborit\, Charlotte Penaud – Cadre supérieure de santé et l’Équipe mobile de psychiatrie précarité. \nInscriptions \nPROGRAMME\nMATIN \n\nAccueil des participants / Ouverture de la journée\nIntervention du Pr Christine SILVAIN – CHU de Poitiers\nPrésentation du réseau EMPP Nouvelle-Aquitaine et maillage régional par Doina ZGUREANU coordinatrice EMPP NA\nÉquipe EMPP 86 du CH Laborit\nPartenariat inclusion animatrice sportive / orientation vers droit commun EMPP 17\n« Précarité agricole »par le Dr Jean-Jacques CHAVAGNAT\nPrésentation de l’Observatoire des pratiques professionnelles en précarité en Nouvelle-Aquitaine (O3PNA) par Arnaud RUBI coordonnateur\n\nAPRÈS-MIDI \n\nLa collaboration entre les acteurs de terrain : Des outils face à la souffrance de l’isolement et de la précarité ! EMPP CH Laborit / SIAO – Philippe AUDOUIN et Anais GUIMARD\nTémoignage d’un usager « Nono » sur son parcours\nMédiation transculturelle : définition et mission : Céline GENOVESIO et Garence GROSSEAU-POUSSARD\nPrécarité et approche expérientielle – Un Chez Soi d’Abord – Émilie SAUZEAU\, Médiateur Santé Pair et Aurélien CALONNE\n\nPrécarité étudiante\nConclusion par le Pr JAAFARI\n\n \nInscriptions \nTélécharger le programme
URL:https://ch-laborit.fr/evenement/journee-universitaire-precarite-et-sante-mentale-le-mercredi-18-novembre-2024-au-ch-laborit/
LOCATION:CH Laborit Salle de Conférences\, 370 Avenue Jacques Coeur - Entrée 21\, Poitiers
CATEGORIES:Journée d'étude,Journée thématique,Journée Universitaire
ATTACH;FMTTYPE=image/jpeg:https://ch-laborit.fr/wp-content/uploads/1/2024/11/JUPP-2024-vd-768.jpg
END:VEVENT
END:VCALENDAR